BEGIN:VCALENDAR
VERSION:2.0
PRODID:-//Vio La Loona - ECPv6.15.20//NONSGML v1.0//EN
CALSCALE:GREGORIAN
METHOD:PUBLISH
X-ORIGINAL-URL:https://violaloona.de
X-WR-CALDESC:Veranstaltungen für Vio La Loona
REFRESH-INTERVAL;VALUE=DURATION:PT1H
X-Robots-Tag:noindex
X-PUBLISHED-TTL:PT1H
BEGIN:VTIMEZONE
TZID:Europe/Berlin
BEGIN:DAYLIGHT
TZOFFSETFROM:+0100
TZOFFSETTO:+0200
TZNAME:CEST
DTSTART:20250330T010000
END:DAYLIGHT
BEGIN:STANDARD
TZOFFSETFROM:+0200
TZOFFSETTO:+0100
TZNAME:CET
DTSTART:20251026T010000
END:STANDARD
BEGIN:DAYLIGHT
TZOFFSETFROM:+0100
TZOFFSETTO:+0200
TZNAME:CEST
DTSTART:20260329T010000
END:DAYLIGHT
BEGIN:STANDARD
TZOFFSETFROM:+0200
TZOFFSETTO:+0100
TZNAME:CET
DTSTART:20261025T010000
END:STANDARD
BEGIN:DAYLIGHT
TZOFFSETFROM:+0100
TZOFFSETTO:+0200
TZNAME:CEST
DTSTART:20270328T010000
END:DAYLIGHT
BEGIN:STANDARD
TZOFFSETFROM:+0200
TZOFFSETTO:+0100
TZNAME:CET
DTSTART:20271031T010000
END:STANDARD
END:VTIMEZONE
BEGIN:VEVENT
DTSTART;TZID=Europe/Berlin:20260421T170000
DTEND;TZID=Europe/Berlin:20260421T183000
DTSTAMP:20260421T104914
CREATED:20260303T091719Z
LAST-MODIFIED:20260303T091719Z
UID:3447-1776790800-1776796200@violaloona.de
SUMMARY:VerwöhnZeit
DESCRIPTION:VerwöhnZeit in der Marienblüte!\nDein Alltag fordert dich und du hast wenig Zeit\, \ndir etwas Gutes zu tun? Wünscht Du Dir etwas Entschleunigung und nachhaltige Entspannung? \nIch lade dich zu einer VerwöhnZeit ein und zeige dir\, wie du dir selbst\, ganz leicht\, wohltuende Entspannung zaubern kannst\, wann immer du sie brauchst. \nGönn dir eine Auszeit nur für dich\, verwöhne deine Haut und deinen Geist mit wundervollen ätherischen Ölen und natürlichen Produkten. \nFinde zurück in deine Balance\, mit einer guter Portion Selbstliebe\, Dampfbädern\, Peelings\, Gesichtsmasken\, sanften Massagen und der wundervollen Kraft der Natur. \nEs erwarten dich ca. 90 Minuten tiefe Entspannung für Gesicht\, Hände und Seele in einer gemütlichen Atmosphäre. Gönn dir deine VerwöhnZeit. \nBuchungen gern telefonisch unter 0172 2797351\, direkt in der Marienblüte oder über diesen >>Buchungslink<<
URL:https://violaloona.de/event/verwoehnzeit-2/
LOCATION:Marienblüte – Blumenladen & Cafe\, Vlothoer Straße 84 a\, Herford\, NRW\, 32049
CATEGORIES:Live Events
ATTACH;FMTTYPE=image/jpeg:https://violaloona.de/wp-content/uploads/2025/05/Verwoehnzeit.jpg
END:VEVENT
END:VCALENDAR